BEGIN:VCALENDAR
PRODID:-//http://statistik.d-u-v.org//PHP ultracalendar//EN
VERSION:2.0
METHOD:PUBLISH
BEGIN:VEVENT
DTSTAMP:20260423T020629
CREATED:20240723T125541
UID:1776909989.0.95281600-117994@statistik.d-u-v.org
SUMMARY:Oscars 100 Hut2Hut (multi-day)
DESCRIPTION: Oscars 100 Hut2Hut (multi-day)\n
  Andy Payne\n
  info[at]oscars100.com.au
DTSTART:20250214T060000
DTEND:20250216T120000
LOCATION:Mount Buller, VIC\, AUS
URL:http://www.hut2hut.oscars100.com.au
CATEGORIES:Ultramarathon
CONTACT:Andy Payne
CLASS:PUBLIC
PRIORITY:5
TRANSP:OPAQUE
END:VEVENT
END:VCALENDAR
