BEGIN:VCALENDAR
PRODID:-//http://statistik.d-u-v.org//PHP ultracalendar//EN
VERSION:2.0
METHOD:PUBLISH
BEGIN:VEVENT
DTSTAMP:20260424T155328
CREATED:20250326T151914
UID:1777046008.0.88256800-117970@statistik.d-u-v.org
SUMMARY:Osnabrücker PiesBERG Ultra-Marathon
DESCRIPTION: Osnabrücker PiesBERG Ultra-Marathon\n
  Günter Liegmann\n
  liegmann[at]hotmail.de
DTSTART:20250412T080000
DTEND:00000000T235900
LOCATION:Osnabrück\, GER
URL:http://www.ospum.de
CATEGORIES:Ultramarathon
CONTACT:Günter Liegmann
CLASS:PUBLIC
PRIORITY:5
TRANSP:OPAQUE
END:VEVENT
END:VCALENDAR
