BEGIN:VCALENDAR
PRODID:-//http://statistik.d-u-v.org//PHP ultracalendar//EN
VERSION:2.0
METHOD:PUBLISH
BEGIN:VEVENT
DTSTAMP:20260419T122453
CREATED:20110919T155452
UID:1776601493.0.36553700-11791@statistik.d-u-v.org
SUMMARY:Trail Vallée Du Scorff
DESCRIPTION: Trail Vallée Du Scorff\n
  \n
  
DTSTART:20110410T000000
DTEND:00000000T235900
LOCATION:Cleguer\, FRA
URL:http://www.traildelavalleeduscorff.fr/
CATEGORIES:Ultramarathon
CONTACT:
CLASS:PUBLIC
PRIORITY:5
TRANSP:OPAQUE
END:VEVENT
END:VCALENDAR
