BEGIN:VCALENDAR
PRODID:-//http://statistik.d-u-v.org//PHP ultracalendar//EN
VERSION:2.0
METHOD:PUBLISH
BEGIN:VEVENT
DTSTAMP:20260423T034726
CREATED:20250323T131246
UID:1776916046.0.54670300-117828@statistik.d-u-v.org
SUMMARY:The Pigum
DESCRIPTION: The Pigum\n
  Rhys Jenkins\n
  info[at]pegasusultrarunning.com
DTSTART:20250705T070000
DTEND:00000000T235900
LOCATION:Abergavenny\, GBR
URL:https://pegasusultrarunning.com/
CATEGORIES:Ultramarathon
CONTACT:Rhys Jenkins
CLASS:PUBLIC
PRIORITY:5
TRANSP:OPAQUE
END:VEVENT
END:VCALENDAR
