BEGIN:VCALENDAR
PRODID:-//http://statistik.d-u-v.org//PHP ultracalendar//EN
VERSION:2.0
METHOD:PUBLISH
BEGIN:VEVENT
DTSTAMP:20260423T025003
CREATED:20250322T141450
UID:1776912603.0.71187900-117773@statistik.d-u-v.org
SUMMARY:Le Bretagne Ultra Trail 112km
DESCRIPTION: Le Bretagne Ultra Trail 112km\n
  \n
  bretagne.ultratrail[at]gmail.com; armor-argoat[at]hotmail.fr
DTSTART:20250426T050000
DTEND:00000000T235900
LOCATION:Quistinic\, FRA
URL:https://www.klikego.com/inscription/bretagne-ultra-trail-2025--challenge-armor-argoat-2025/running-course-a-pied/1509226817964-14?tab=-1
CATEGORIES:Ultramarathon
CONTACT:
CLASS:PUBLIC
PRIORITY:5
TRANSP:OPAQUE
END:VEVENT
END:VCALENDAR
