BEGIN:VCALENDAR
PRODID:-//http://statistik.d-u-v.org//PHP ultracalendar//EN
VERSION:2.0
METHOD:PUBLISH
BEGIN:VEVENT
DTSTAMP:20260423T041051
CREATED:20250321T085740
UID:1776917451.0.14983600-117757@statistik.d-u-v.org
SUMMARY:NUTS Karhunkierros 166km Trail Ultra
DESCRIPTION: NUTS Karhunkierros 166km Trail Ultra\n
  Eero Lumme\n
  eppu[at]nuts.fi
DTSTART:20250523T080000
DTEND:20250524T235900
LOCATION:Ruka, Kuusamo\, FIN
URL:http://nutskarhunkierros.fi/en/
CATEGORIES:Ultramarathon
CONTACT:Eero Lumme
CLASS:PUBLIC
PRIORITY:5
TRANSP:OPAQUE
END:VEVENT
END:VCALENDAR
