BEGIN:VCALENDAR
PRODID:-//http://statistik.d-u-v.org//PHP ultracalendar//EN
VERSION:2.0
METHOD:PUBLISH
BEGIN:VEVENT
DTSTAMP:20260425T192825
CREATED:20250319T022144
UID:1777145305.0.43477700-117600@statistik.d-u-v.org
SUMMARY:Ultra Trail Challenge Bailidujuan 100
DESCRIPTION: Ultra Trail Challenge Bailidujuan 100\n
  \n
  
DTSTART:20240824T080000
DTEND:20240825T120000
LOCATION:Bijie City\, CHN
URL:https://www.geexek.com/cmpt/detail?Y2lkPTE4MjIy
CATEGORIES:Ultramarathon
CONTACT:
CLASS:PUBLIC
PRIORITY:5
TRANSP:OPAQUE
END:VEVENT
END:VCALENDAR
