BEGIN:VCALENDAR
PRODID:-//http://statistik.d-u-v.org//PHP ultracalendar//EN
VERSION:2.0
METHOD:PUBLISH
BEGIN:VEVENT
DTSTAMP:20260420T044136
CREATED:20250318T214619
UID:1776660096.0.56783300-117594@statistik.d-u-v.org
SUMMARY:Black Mountains 32mi
DESCRIPTION: Black Mountains 32mi\n
  Ellen Wood\n
  ellen[at]limitlesstrails.co.uk
DTSTART:20250614T000000
DTEND:00000000T235900
LOCATION:Llanbedr\, GBR
URL:https://www.limitlesstrails.co.uk
CATEGORIES:Ultramarathon
CONTACT:Ellen Wood
CLASS:PUBLIC
PRIORITY:5
TRANSP:OPAQUE
END:VEVENT
END:VCALENDAR
