BEGIN:VCALENDAR
PRODID:-//http://statistik.d-u-v.org//PHP ultracalendar//EN
VERSION:2.0
METHOD:PUBLISH
BEGIN:VEVENT
DTSTAMP:20260420T075403
CREATED:20250314T173113
UID:1776671643.0.75140200-117506@statistik.d-u-v.org
SUMMARY:Arktos 20 Hour Ultra
DESCRIPTION: Arktos 20 Hour Ultra\n
  \n
  carri[at]mammothendurance.com
DTSTART:20240302T120000
DTEND:20240303T080000
LOCATION:Dousman, WI\, USA
URL:https://www.goldenkettletrailseries.com/arktos
CATEGORIES:Ultramarathon
CONTACT:
CLASS:PUBLIC
PRIORITY:5
TRANSP:OPAQUE
END:VEVENT
END:VCALENDAR
