BEGIN:VCALENDAR
PRODID:-//http://statistik.d-u-v.org//PHP ultracalendar//EN
VERSION:2.0
METHOD:PUBLISH
BEGIN:VEVENT
DTSTAMP:20260423T014941
CREATED:20250310T182005
UID:1776908981.0.21161200-117459@statistik.d-u-v.org
SUMMARY:12hr Loutraki Int. Ultramarathon Festival
DESCRIPTION: 12hr Loutraki Int. Ultramarathon Festival\n
  Konstantinos Baxevanis\n
  costas.baxevanis[at]gmail.com
DTSTART:20251017T230000
DTEND:20251018T110000
LOCATION:Loutraki\, GRE
URL:https://www.dayrunners.gr/
CATEGORIES:Ultramarathon
CONTACT:Konstantinos Baxevanis
CLASS:PUBLIC
PRIORITY:5
TRANSP:OPAQUE
END:VEVENT
END:VCALENDAR
