BEGIN:VCALENDAR
PRODID:-//http://statistik.d-u-v.org//PHP ultracalendar//EN
VERSION:2.0
METHOD:PUBLISH
BEGIN:VEVENT
DTSTAMP:20260423T100305
CREATED:20250312T073928
UID:1776938585.0.98824700-117378@statistik.d-u-v.org
SUMMARY:Ronneby Backyard Ultra TEAM
DESCRIPTION: Ronneby Backyard Ultra TEAM\n
  \n
  info[at]evolventexperience.se
DTSTART:20250322T080000
DTEND:00000000T235900
LOCATION:Risatorp, Ronneby\, SWE
URL:https://www.facebook.com/events/1053507983038967
CATEGORIES:Ultramarathon
CONTACT:
CLASS:PUBLIC
PRIORITY:5
TRANSP:OPAQUE
END:VEVENT
END:VCALENDAR
