BEGIN:VCALENDAR
PRODID:-//http://statistik.d-u-v.org//PHP ultracalendar//EN
VERSION:2.0
METHOD:PUBLISH
BEGIN:VEVENT
DTSTAMP:20260423T043520
CREATED:20250311T023034
UID:1776918920.0.70665300-117322@statistik.d-u-v.org
SUMMARY:Moganshan 65 Ultra Trail Type B
DESCRIPTION: Moganshan 65 Ultra Trail Type B\n
  \n
  mgs100[at]letoursports.com
DTSTART:20241026T063000
DTEND:20241027T003000
LOCATION:Huzhou City\, CHN
URL:http://www.letoursports.com/m/article?id=65465&mid=57201
CATEGORIES:Ultramarathon
CONTACT:
CLASS:PUBLIC
PRIORITY:5
TRANSP:OPAQUE
END:VEVENT
END:VCALENDAR
