BEGIN:VCALENDAR
PRODID:-//http://statistik.d-u-v.org//PHP ultracalendar//EN
VERSION:2.0
METHOD:PUBLISH
BEGIN:VEVENT
DTSTAMP:20260424T141741
CREATED:20250306T174415
UID:1777040261.0.88618000-117271@statistik.d-u-v.org
SUMMARY:Coldwater Rumble 100 Km Race
DESCRIPTION: Coldwater Rumble 100 Km Race\n
  \n
  info[at]aravaiparunning.com
DTSTART:20260117T071500
DTEND:00000000T235900
LOCATION:Goodyear, AZ\, USA
URL:https://ultrasignup.com/register.aspx?did=125337
CATEGORIES:Ultramarathon
CONTACT:
CLASS:PUBLIC
PRIORITY:5
TRANSP:OPAQUE
END:VEVENT
END:VCALENDAR
