BEGIN:VCALENDAR
PRODID:-//http://statistik.d-u-v.org//PHP ultracalendar//EN
VERSION:2.0
METHOD:PUBLISH
BEGIN:VEVENT
DTSTAMP:20260419T192414
CREATED:20250306T172041
UID:1776626654.0.88608700-117263@statistik.d-u-v.org
SUMMARY:A Day in the Park 6h
DESCRIPTION: A Day in the Park 6h\n
  \n
  
DTSTART:20250920T000000
DTEND:20250921T070000
LOCATION:Lebanon, OH\, USA
URL:https://ultrasignup.com/register.aspx?did=124554
CATEGORIES:Ultramarathon
CONTACT:
CLASS:PUBLIC
PRIORITY:5
TRANSP:OPAQUE
END:VEVENT
END:VCALENDAR
