BEGIN:VCALENDAR
PRODID:-//http://statistik.d-u-v.org//PHP ultracalendar//EN
VERSION:2.0
METHOD:PUBLISH
BEGIN:VEVENT
DTSTAMP:20260419T164833
CREATED:20250306T131213
UID:1776617313.0.05360800-117227@statistik.d-u-v.org
SUMMARY:Snow Devil Snowshoe Race
DESCRIPTION: Snow Devil Snowshoe Race\n
  \n
  info[at]peakraces.com
DTSTART:20250124T000000
DTEND:20250126T235900
LOCATION:Pittsfield, VT\, USA
URL:https://peakraces.com/snowshoe-races/peak-snow-devil-snowshoe-race/
CATEGORIES:Ultramarathon
CONTACT:
CLASS:PUBLIC
PRIORITY:5
TRANSP:OPAQUE
END:VEVENT
END:VCALENDAR
