BEGIN:VCALENDAR
PRODID:-//http://statistik.d-u-v.org//PHP ultracalendar//EN
VERSION:2.0
METHOD:PUBLISH
BEGIN:VEVENT
DTSTAMP:20260422T084444
CREATED:20241230T090638
UID:1776847484.0.97582000-117223@statistik.d-u-v.org
SUMMARY:S:t Hans Extreme
DESCRIPTION: S:t Hans Extreme\n
  Sara Snogerup Linse\n
  she[at]lundsok.se
DTSTART:20250522T000000
DTEND:00000000T235900
LOCATION:Lund\, SWE
URL:https://she.lundsok.se/
CATEGORIES:Ultramarathon
CONTACT:Sara Snogerup Linse
CLASS:PUBLIC
PRIORITY:5
TRANSP:OPAQUE
END:VEVENT
END:VCALENDAR
