BEGIN:VCALENDAR
PRODID:-//http://statistik.d-u-v.org//PHP ultracalendar//EN
VERSION:2.0
METHOD:PUBLISH
BEGIN:VEVENT
DTSTAMP:20260425T175950
CREATED:20250304T061306
UID:1777139990.0.86723300-117151@statistik.d-u-v.org
SUMMARY:Taipei 6hr Ultra Marathon Saturday Midnight Run - 50km Split
DESCRIPTION: Taipei 6hr Ultra Marathon Saturday Midnight Run - 50km Split\n
  Frank Kuo, Race director\n
  yhwang.ctau[at]gmail.com
DTSTART:20250222T000000
DTEND:00000000T235900
LOCATION:Taipei City\, TPE
URL:https://docs.google.com/document/d/1ois5otrgqnWLqJP_zwKPikyu-e5iszJeUJABUeKgyCU/edit?tab=t.0
CATEGORIES:Ultramarathon
CONTACT:Frank Kuo, Race director
CLASS:PUBLIC
PRIORITY:5
TRANSP:OPAQUE
END:VEVENT
END:VCALENDAR
