BEGIN:VCALENDAR
PRODID:-//http://statistik.d-u-v.org//PHP ultracalendar//EN
VERSION:2.0
METHOD:PUBLISH
BEGIN:VEVENT
DTSTAMP:20260419T195345
CREATED:20250302T142552
UID:1776628425.0.25302400-117109@statistik.d-u-v.org
SUMMARY:Sri Chinmoy 6-Stunden-Lauf Amsterdam
DESCRIPTION: Sri Chinmoy 6-Stunden-Lauf Amsterdam\n
  Nitish Peter Zuidema\n
  nitishz[at]zoho.com
DTSTART:20250927T100000
DTEND:20250927T160000
LOCATION:Amstelveen\, NED
URL:http://nl.srichinmoyraces.org/
CATEGORIES:Ultramarathon
CONTACT:Nitish Peter Zuidema
CLASS:PUBLIC
PRIORITY:5
TRANSP:OPAQUE
END:VEVENT
END:VCALENDAR
