BEGIN:VCALENDAR
PRODID:-//http://statistik.d-u-v.org//PHP ultracalendar//EN
VERSION:2.0
METHOD:PUBLISH
BEGIN:VEVENT
DTSTAMP:20260424T230625
CREATED:20250302T122135
UID:1777071985.0.20651200-117094@statistik.d-u-v.org
SUMMARY:Wild Horse Traverse
DESCRIPTION: Wild Horse Traverse\n
  Rene Unser\n
  rene[at]pacetrailruns.com
DTSTART:20250503T070000
DTEND:00000000T235900
LOCATION:Kelowna, BC\, CAN
URL:https://www.pacetrailruns.com/wildhorse-traverse.html
CATEGORIES:Ultramarathon
CONTACT:Rene Unser
CLASS:PUBLIC
PRIORITY:5
TRANSP:OPAQUE
END:VEVENT
END:VCALENDAR
