BEGIN:VCALENDAR
PRODID:-//http://statistik.d-u-v.org//PHP ultracalendar//EN
VERSION:2.0
METHOD:PUBLISH
BEGIN:VEVENT
DTSTAMP:20260420T031905
CREATED:20250302T121501
UID:1776655145.0.21461200-117091@statistik.d-u-v.org
SUMMARY:Dirty Feet Kal Park 50
DESCRIPTION: Dirty Feet Kal Park 50\n
  \n
  info[at]dirtyfeet.ca
DTSTART:20250504T070000
DTEND:00000000T235900
LOCATION:Vernon, BC\, CAN
URL:http://dirtyfeet.ca/event/north-face-dirty-feet-kal-park-50
CATEGORIES:Ultramarathon
CONTACT:
CLASS:PUBLIC
PRIORITY:5
TRANSP:OPAQUE
END:VEVENT
END:VCALENDAR
