BEGIN:VCALENDAR
PRODID:-//http://statistik.d-u-v.org//PHP ultracalendar//EN
VERSION:2.0
METHOD:PUBLISH
BEGIN:VEVENT
DTSTAMP:20260420T031907
CREATED:20250302T114907
UID:1776655147.0.36760500-117073@statistik.d-u-v.org
SUMMARY:High Noon 24 Hour Trail Race
DESCRIPTION: High Noon 24 Hour Trail Race\n
  \n
  antonio[at]upriverrunning.com
DTSTART:20250614T090000
DTEND:00000000T235900
LOCATION:Thunder Bay, ON\, CAN
URL:https://www.upriverrunning.com/highnoon
CATEGORIES:Ultramarathon
CONTACT:
CLASS:PUBLIC
PRIORITY:5
TRANSP:OPAQUE
END:VEVENT
END:VCALENDAR
