BEGIN:VCALENDAR
PRODID:-//http://statistik.d-u-v.org//PHP ultracalendar//EN
VERSION:2.0
METHOD:PUBLISH
BEGIN:VEVENT
DTSTAMP:20260425T190610
CREATED:20250302T113905
UID:1777143970.0.65923600-117066@statistik.d-u-v.org
SUMMARY:Broken Goat 50K
DESCRIPTION: Broken Goat 50K\n
  Race Director Rene Unser\n
  reneunser[at]gmail.com
DTSTART:20250719T060000
DTEND:00000000T235900
LOCATION:Rossland, BC\, CAN
URL:https://www.pacetrailruns.com/broken-goat.html
CATEGORIES:Ultramarathon
CONTACT:Race Director Rene Unser
CLASS:PUBLIC
PRIORITY:5
TRANSP:OPAQUE
END:VEVENT
END:VCALENDAR
