BEGIN:VCALENDAR
PRODID:-//http://statistik.d-u-v.org//PHP ultracalendar//EN
VERSION:2.0
METHOD:PUBLISH
BEGIN:VEVENT
DTSTAMP:20260422T235109
CREATED:20250302T103951
UID:1776901869.0.85167400-117044@statistik.d-u-v.org
SUMMARY:Yukon Arctic Ultra 350km
DESCRIPTION: Yukon Arctic Ultra 350km\n
  Robert Pollhammer\n
  info[at]thegreatoutdoors.de
DTSTART:20250202T150000
DTEND:20250205T235900
LOCATION:Teslin, YT\, CAN
URL:http://www.arcticultra.de/
CATEGORIES:Ultramarathon
CONTACT:Robert Pollhammer
CLASS:PUBLIC
PRIORITY:5
TRANSP:OPAQUE
END:VEVENT
END:VCALENDAR
