BEGIN:VCALENDAR
PRODID:-//http://statistik.d-u-v.org//PHP ultracalendar//EN
VERSION:2.0
METHOD:PUBLISH
BEGIN:VEVENT
DTSTAMP:20260420T053133
CREATED:20250302T002744
UID:1776663093.0.03702100-117035@statistik.d-u-v.org
SUMMARY:Sulphur Springs Trail Run 100km
DESCRIPTION: Sulphur Springs Trail Run 100km\n
  Race Director Andrea Lynn Sloan, Tim Nelson\n
  sulphursprings[at]burlingtonrunners.com
DTSTART:20250524T060000
DTEND:20250525T120000
LOCATION:Ancaster, ON\, CAN
URL:https://sulphursprings.burlingtonrunners.com/
CATEGORIES:Ultramarathon
CONTACT:Race Director Andrea Lynn Sloan, Tim Nelson
CLASS:PUBLIC
PRIORITY:5
TRANSP:OPAQUE
END:VEVENT
END:VCALENDAR
