BEGIN:VCALENDAR
PRODID:-//http://statistik.d-u-v.org//PHP ultracalendar//EN
VERSION:2.0
METHOD:PUBLISH
BEGIN:VEVENT
DTSTAMP:20260419T164746
CREATED:20250301T235203
UID:1776617266.0.10745900-117010@statistik.d-u-v.org
SUMMARY:Ultra Trail Forillon
DESCRIPTION: Ultra Trail Forillon\n
  \n
  info[at]gaspesia.org
DTSTART:20250920T050000
DTEND:20250921T170000
LOCATION:Gaspe\, CAN
URL:https://gaspesia.org/en/ultratrailforillon/
CATEGORIES:Ultramarathon
CONTACT:
CLASS:PUBLIC
PRIORITY:5
TRANSP:OPAQUE
END:VEVENT
END:VCALENDAR
