BEGIN:VCALENDAR
PRODID:-//http://statistik.d-u-v.org//PHP ultracalendar//EN
VERSION:2.0
METHOD:PUBLISH
BEGIN:VEVENT
DTSTAMP:20260420T022453
CREATED:20250301T232843
UID:1776651893.0.45388100-117001@statistik.d-u-v.org
SUMMARY:Lakou Backyard Ultra
DESCRIPTION: Lakou Backyard Ultra\n
  \n
  riversedgeultra[at]gmail.com
DTSTART:20250517T090000
DTEND:20250518T235900
LOCATION:Edmonton, Alberta\, CAN
URL:https://backyardultra.com/races/lakou-backyard-ultra/
CATEGORIES:Ultramarathon
CONTACT:
CLASS:PUBLIC
PRIORITY:5
TRANSP:OPAQUE
END:VEVENT
END:VCALENDAR
