BEGIN:VCALENDAR
PRODID:-//http://statistik.d-u-v.org//PHP ultracalendar//EN
VERSION:2.0
METHOD:PUBLISH
BEGIN:VEVENT
DTSTAMP:20260423T054057
CREATED:20110907T225442
UID:1776922857.0.48941700-11690@statistik.d-u-v.org
SUMMARY:Beogradski Ultramaraton 24h
DESCRIPTION: Beogradski Ultramaraton 24h\n
  \n
  srbijabg24h[at]srichinmoyraces.org
DTSTART:20110924T120000
DTEND:20110925T120000
LOCATION:Belgrad\, SRB
URL:http://rs.srichinmoyraces.org/aktivnosti/bum/bum2011/index.htm
CATEGORIES:Ultramarathon
CONTACT:
CLASS:PUBLIC
PRIORITY:5
TRANSP:OPAQUE
END:VEVENT
END:VCALENDAR
