BEGIN:VCALENDAR
PRODID:-//http://statistik.d-u-v.org//PHP ultracalendar//EN
VERSION:2.0
METHOD:PUBLISH
BEGIN:VEVENT
DTSTAMP:20260422T101810
CREATED:20250228T071434
UID:1776853090.0.85751900-116893@statistik.d-u-v.org
SUMMARY:Altmühl Ultra Trail 50 - Night Edition
DESCRIPTION: Altmühl Ultra Trail 50 - Night Edition\n
  Oliver Bock\n
  altmuehltaltrailrunning[at]t-online.de
DTSTART:20250301T210000
DTEND:20250302T070000
LOCATION:Pappenheim\, GER
URL:https://altmuehltal.wixsite.com/altmuehltaltrail
CATEGORIES:Ultramarathon
CONTACT:Oliver Bock
CLASS:PUBLIC
PRIORITY:5
TRANSP:OPAQUE
END:VEVENT
END:VCALENDAR
