BEGIN:VCALENDAR
PRODID:-//http://statistik.d-u-v.org//PHP ultracalendar//EN
VERSION:2.0
METHOD:PUBLISH
BEGIN:VEVENT
DTSTAMP:20260419T164823
CREATED:20250227T155438
UID:1776617303.0.01974800-116844@statistik.d-u-v.org
SUMMARY:Ultramarsch Berlin 120km
DESCRIPTION: Ultramarsch Berlin 120km\n
  Wolf Dreistein\n
  w.dreistein[at]point2line.de
DTSTART:20250322T080000
DTEND:20250323T100000
LOCATION:Berlin\, GER
URL:https://www.ultramarsch.de
CATEGORIES:Ultramarathon
CONTACT:Wolf Dreistein
CLASS:PUBLIC
PRIORITY:5
TRANSP:OPAQUE
END:VEVENT
END:VCALENDAR
