BEGIN:VCALENDAR
PRODID:-//http://statistik.d-u-v.org//PHP ultracalendar//EN
VERSION:2.0
METHOD:PUBLISH
BEGIN:VEVENT
DTSTAMP:20260419T140103
CREATED:20250227T145748
UID:1776607263.0.82862300-116838@statistik.d-u-v.org
SUMMARY:Ultramarsch Berlin 75km
DESCRIPTION: Ultramarsch Berlin 75km\n
  Wolf Dreistein\n
  info[at]ultramarsch.de
DTSTART:20250322T080000
DTEND:20250323T030000
LOCATION:Berlin\, GER
URL:https://www.ultramarsch.de
CATEGORIES:Ultramarathon
CONTACT:Wolf Dreistein
CLASS:PUBLIC
PRIORITY:5
TRANSP:OPAQUE
END:VEVENT
END:VCALENDAR
