BEGIN:VCALENDAR
PRODID:-//http://statistik.d-u-v.org//PHP ultracalendar//EN
VERSION:2.0
METHOD:PUBLISH
BEGIN:VEVENT
DTSTAMP:20260423T031355
CREATED:20250225T135001
UID:1776914035.0.14448100-116753@statistik.d-u-v.org
SUMMARY:Ultramaratona de Indaiatuba, 100km
DESCRIPTION: Ultramaratona de Indaiatuba, 100km\n
  Izabel Cristina da Costa\n
  isa.costtaa74[at]gmail.com
DTSTART:20250222T080000
DTEND:20250223T080000
LOCATION:Indaiatuba, SP\, BRA
URL:https://www.instagram.com/ultramaratona_indaiatuba/
CATEGORIES:Ultramarathon
CONTACT:Izabel Cristina da Costa
CLASS:PUBLIC
PRIORITY:5
TRANSP:OPAQUE
END:VEVENT
END:VCALENDAR
