BEGIN:VCALENDAR
PRODID:-//http://statistik.d-u-v.org//PHP ultracalendar//EN
VERSION:2.0
METHOD:PUBLISH
BEGIN:VEVENT
DTSTAMP:20260420T053139
CREATED:20250224T020808
UID:1776663099.0.04860500-116671@statistik.d-u-v.org
SUMMARY:Peak Ultra 50 Km Endurance Run
DESCRIPTION: Peak Ultra 50 Km Endurance Run\n
  Andy Weinberg\n
  andy[at]peak.com
DTSTART:20100506T053000
DTEND:00000000T235900
LOCATION:Pittsfield, VT\, USA
URL:http://www.peak.com/running-races/peak-ultra/
CATEGORIES:Ultramarathon
CONTACT:Andy Weinberg
CLASS:PUBLIC
PRIORITY:5
TRANSP:OPAQUE
END:VEVENT
END:VCALENDAR
