BEGIN:VCALENDAR
PRODID:-//http://statistik.d-u-v.org//PHP ultracalendar//EN
VERSION:2.0
METHOD:PUBLISH
BEGIN:VEVENT
DTSTAMP:20260423T014906
CREATED:20250221T164054
UID:1776908946.0.16174800-116574@statistik.d-u-v.org
SUMMARY:Run Under The Stars - Paducah
DESCRIPTION: Run Under The Stars - Paducah\n
  \n
  
DTSTART:20220611T200000
DTEND:20220612T235900
LOCATION:Paducah, KY\, USA
URL:https://www.durbinracemanagement.com/
CATEGORIES:Ultramarathon
CONTACT:
CLASS:PUBLIC
PRIORITY:5
TRANSP:OPAQUE
END:VEVENT
END:VCALENDAR
