BEGIN:VCALENDAR
PRODID:-//http://statistik.d-u-v.org//PHP ultracalendar//EN
VERSION:2.0
METHOD:PUBLISH
BEGIN:VEVENT
DTSTAMP:20260419T161733
CREATED:20250218T175205
UID:1776615453.0.78233900-116494@statistik.d-u-v.org
SUMMARY:Von Dom zu Dom
DESCRIPTION: Von Dom zu Dom\n
  \n
  olaf.haesler[at]nord-com.net
DTSTART:20251031T084500
DTEND:00000000T235900
LOCATION:Verden\, GER
URL:https://my.raceresult.com/316499/
CATEGORIES:Ultramarathon
CONTACT:
CLASS:PUBLIC
PRIORITY:5
TRANSP:OPAQUE
END:VEVENT
END:VCALENDAR
