BEGIN:VCALENDAR
PRODID:-//http://statistik.d-u-v.org//PHP ultracalendar//EN
VERSION:2.0
METHOD:PUBLISH
BEGIN:VEVENT
DTSTAMP:20260423T044317
CREATED:20250217T095656
UID:1776919397.0.35344600-116480@statistik.d-u-v.org
SUMMARY:Zugspitz Leutasch Trail
DESCRIPTION: Zugspitz Leutasch Trail\n
  Jürgen Kurapkat\n
  info[at]planb-event.com
DTSTART:20250614T090000
DTEND:00000000T235900
LOCATION:Leutasch-Weidach\, AUT
URL:http://www.zugspitz-ultratrail.com
CATEGORIES:Ultramarathon
CONTACT:Jürgen Kurapkat
CLASS:PUBLIC
PRIORITY:5
TRANSP:OPAQUE
END:VEVENT
END:VCALENDAR
