BEGIN:VCALENDAR
PRODID:-//http://statistik.d-u-v.org//PHP ultracalendar//EN
VERSION:2.0
METHOD:PUBLISH
BEGIN:VEVENT
DTSTAMP:20260422T231417
CREATED:20250215T005911
UID:1776899657.0.01840200-116414@statistik.d-u-v.org
SUMMARY:Texas Double Sun Run
DESCRIPTION: Texas Double Sun Run\n
  \n
  duurun[at]gmail.com
DTSTART:20251221T000000
DTEND:00000000T235900
LOCATION:Dallas, TX\, USA
URL:https://runsignup.com/Race/TX/Dallas/TexasDouble
CATEGORIES:Ultramarathon
CONTACT:
CLASS:PUBLIC
PRIORITY:5
TRANSP:OPAQUE
END:VEVENT
END:VCALENDAR
