BEGIN:VCALENDAR
PRODID:-//http://statistik.d-u-v.org//PHP ultracalendar//EN
VERSION:2.0
METHOD:PUBLISH
BEGIN:VEVENT
DTSTAMP:20260423T044457
CREATED:20250215T003339
UID:1776919497.0.21737800-116410@statistik.d-u-v.org
SUMMARY:Snow Bull 6 Hour Endurance Run
DESCRIPTION: Snow Bull 6 Hour Endurance Run\n
  Colleen Lawrence\n
  colleen.lawrence[at]madcowrunning.com
DTSTART:20260117T090000
DTEND:00000000T235900
LOCATION:Whitwell, TN\, USA
URL:https://ultrasignup.com/register.aspx?did=123975
CATEGORIES:Ultramarathon
CONTACT:Colleen Lawrence
CLASS:PUBLIC
PRIORITY:5
TRANSP:OPAQUE
END:VEVENT
END:VCALENDAR
