BEGIN:VCALENDAR
PRODID:-//http://statistik.d-u-v.org//PHP ultracalendar//EN
VERSION:2.0
METHOD:PUBLISH
BEGIN:VEVENT
DTSTAMP:20260423T043550
CREATED:20250214T221051
UID:1776918950.0.67565500-116394@statistik.d-u-v.org
SUMMARY:Greensprings 24
DESCRIPTION: Greensprings 24\n
  Ellen Alexander\n
  ultraellen[at]gmail.com
DTSTART:20251025T080000
DTEND:20251026T080000
LOCATION:Williamsburg\, USA
URL:https://ultrasignup.com/register.aspx?did=124587
CATEGORIES:Ultramarathon
CONTACT:Ellen Alexander
CLASS:PUBLIC
PRIORITY:5
TRANSP:OPAQUE
END:VEVENT
END:VCALENDAR
