BEGIN:VCALENDAR
PRODID:-//http://statistik.d-u-v.org//PHP ultracalendar//EN
VERSION:2.0
METHOD:PUBLISH
BEGIN:VEVENT
DTSTAMP:20260424T234155
CREATED:20250214T220240
UID:1777074115.0.01472700-116392@statistik.d-u-v.org
SUMMARY:Rio Del Lago 50 km Race
DESCRIPTION: Rio Del Lago 50 km Race\n
  Julie Fingar\n
  staff[at]norcalultras.com
DTSTART:20251101T040000
DTEND:00000000T235900
LOCATION:Granite Bay, CA\, USA
URL:http://www.rio100mile.com/
CATEGORIES:Ultramarathon
CONTACT:Julie Fingar
CLASS:PUBLIC
PRIORITY:5
TRANSP:OPAQUE
END:VEVENT
END:VCALENDAR
