BEGIN:VCALENDAR
PRODID:-//http://statistik.d-u-v.org//PHP ultracalendar//EN
VERSION:2.0
METHOD:PUBLISH
BEGIN:VEVENT
DTSTAMP:20260419T183245
CREATED:20250206T190542
UID:1776623565.0.45450300-116284@statistik.d-u-v.org
SUMMARY:Bulldog 6-Hour Ultra
DESCRIPTION: Bulldog 6-Hour Ultra\n
  Kevin Randolph\n
  kevinran1976[at]gmail.com
DTSTART:20251115T070000
DTEND:00000000T235900
LOCATION:Wellington, FL\, USA
URL:https://ultrasignup.com/register.aspx?did=114673
CATEGORIES:Ultramarathon
CONTACT:Kevin Randolph
CLASS:PUBLIC
PRIORITY:5
TRANSP:OPAQUE
END:VEVENT
END:VCALENDAR
