BEGIN:VCALENDAR
PRODID:-//http://statistik.d-u-v.org//PHP ultracalendar//EN
VERSION:2.0
METHOD:PUBLISH
BEGIN:VEVENT
DTSTAMP:20260419T192343
CREATED:20250205T161959
UID:1776626623.0.50145900-116229@statistik.d-u-v.org
SUMMARY:Grand Raid des Pyrénées - Tour des Lacs
DESCRIPTION: Grand Raid des Pyrénées - Tour des Lacs\n
  \n
  contact[at]grandraidpyrenees.com
DTSTART:20250823T050000
DTEND:20250824T060000
LOCATION:Vielle-Aure\, FRA
URL:https://www.grandraidpyrenees.com
CATEGORIES:Ultramarathon
CONTACT:
CLASS:PUBLIC
PRIORITY:5
TRANSP:OPAQUE
END:VEVENT
END:VCALENDAR
