BEGIN:VCALENDAR
PRODID:-//http://statistik.d-u-v.org//PHP ultracalendar//EN
VERSION:2.0
METHOD:PUBLISH
BEGIN:VEVENT
DTSTAMP:20260423T022655
CREATED:20250205T160938
UID:1776911215.0.91218900-116227@statistik.d-u-v.org
SUMMARY:Grand Raid des Pyrénées - Tour du Bastan
DESCRIPTION: Grand Raid des Pyrénées - Tour du Bastan\n
  \n
  contact[at]grandraidpyrenees.com
DTSTART:20250821T070000
DTEND:00000000T235900
LOCATION:Pla d'Adet\, FRA
URL:http://www.grandraidpyrenees.com/
CATEGORIES:Ultramarathon
CONTACT:
CLASS:PUBLIC
PRIORITY:5
TRANSP:OPAQUE
END:VEVENT
END:VCALENDAR
