BEGIN:VCALENDAR
PRODID:-//http://statistik.d-u-v.org//PHP ultracalendar//EN
VERSION:2.0
METHOD:PUBLISH
BEGIN:VEVENT
DTSTAMP:20260420T022448
CREATED:20250205T152845
UID:1776651888.0.26586400-116224@statistik.d-u-v.org
SUMMARY:L'Échappée Belle - Parcours des Crêtes 63km
DESCRIPTION: L'Échappée Belle - Parcours des Crêtes 63km\n
  Florent Hubert\n
  contact.belledonne[at]gmail.com
DTSTART:20250823T090000
DTEND:20250824T120000
LOCATION:Allevard\, FRA
URL:http://www.lechappeebelledonne.com
CATEGORIES:Ultramarathon
CONTACT:Florent Hubert
CLASS:PUBLIC
PRIORITY:5
TRANSP:OPAQUE
END:VEVENT
END:VCALENDAR
