BEGIN:VCALENDAR
PRODID:-//http://statistik.d-u-v.org//PHP ultracalendar//EN
VERSION:2.0
METHOD:PUBLISH
BEGIN:VEVENT
DTSTAMP:20260420T050006
CREATED:20250203T163159
UID:1776661206.0.91143700-116158@statistik.d-u-v.org
SUMMARY:Ancient Oaks 100 Mile Run
DESCRIPTION: Ancient Oaks 100 Mile Run\n
  Race Director Mike Melton\n
  mike[at]mcmelton.com
DTSTART:20251220T070000
DTEND:20251221T150000
LOCATION:Titusville, FL\, USA
URL:https://runsignup.com/Race/FL/Titusville/AncientOaks100MileEnduranceRun
CATEGORIES:Ultramarathon
CONTACT:Race Director Mike Melton
CLASS:PUBLIC
PRIORITY:5
TRANSP:OPAQUE
END:VEVENT
END:VCALENDAR
