BEGIN:VCALENDAR
PRODID:-//http://statistik.d-u-v.org//PHP ultracalendar//EN
VERSION:2.0
METHOD:PUBLISH
BEGIN:VEVENT
DTSTAMP:20260424T175907
CREATED:20250202T184717
UID:1777053547.0.38040500-116141@statistik.d-u-v.org
SUMMARY:Gila 100
DESCRIPTION: Gila 100\n
  \n
  gilaenduranceruns[at]gmail.com
DTSTART:20251018T060000
DTEND:20251019T235900
LOCATION:Silver City, NM\, USA
URL:https://www.gilaenduranceruns.com/
CATEGORIES:Ultramarathon
CONTACT:
CLASS:PUBLIC
PRIORITY:5
TRANSP:OPAQUE
END:VEVENT
END:VCALENDAR
