BEGIN:VCALENDAR
PRODID:-//http://statistik.d-u-v.org//PHP ultracalendar//EN
VERSION:2.0
METHOD:PUBLISH
BEGIN:VEVENT
DTSTAMP:20260423T033557
CREATED:20250202T180730
UID:1776915357.0.21489300-116131@statistik.d-u-v.org
SUMMARY:Mile Madness Endurance Run 48h
DESCRIPTION: Mile Madness Endurance Run 48h\n
  \n
  brian[at]everydayenduranceraces.com
DTSTART:20251010T180000
DTEND:20251012T180000
LOCATION:Rocklin, CA\, USA
URL:https://www.everydayenduranceraces.com/?fbclid=IwY2xjawGzxFRleHRuA2FlbQIxMAABHQiusj1EWREyLYJP3D8-nikcnA-FCruiXv2hdTjjN5z_ZiY9KORTZ8chUw_aem_nqXECdwO4hEjRx8h890MCA
CATEGORIES:Ultramarathon
CONTACT:
CLASS:PUBLIC
PRIORITY:5
TRANSP:OPAQUE
END:VEVENT
END:VCALENDAR
