BEGIN:VCALENDAR
PRODID:-//http://statistik.d-u-v.org//PHP ultracalendar//EN
VERSION:2.0
METHOD:PUBLISH
BEGIN:VEVENT
DTSTAMP:20260419T195339
CREATED:20250202T130608
UID:1776628419.0.33510000-116050@statistik.d-u-v.org
SUMMARY:Minnie Ha Ha 12 Hour Run
DESCRIPTION: Minnie Ha Ha 12 Hour Run\n
  \n
  slugwebsite[at]gmail.com
DTSTART:20251018T070000
DTEND:00000000T235900
LOCATION:Saint Louis, MO\, USA
URL:https://ultrasignup.com/register.aspx?did=125802
CATEGORIES:Ultramarathon
CONTACT:
CLASS:PUBLIC
PRIORITY:5
TRANSP:OPAQUE
END:VEVENT
END:VCALENDAR
