BEGIN:VCALENDAR
PRODID:-//http://statistik.d-u-v.org//PHP ultracalendar//EN
VERSION:2.0
METHOD:PUBLISH
BEGIN:VEVENT
DTSTAMP:20260423T041135
CREATED:20250202T114748
UID:1776917495.0.84289700-116029@statistik.d-u-v.org
SUMMARY:Canal Corridor 100 Mile Endurance Run
DESCRIPTION: Canal Corridor 100 Mile Endurance Run\n
  \n
  eacollins04[at]gmail.com
DTSTART:20251011T070000
DTEND:20251012T235900
LOCATION:Akron, OH\, USA
URL:https://runningforwardandgivingback.com/canal-corridor-100
CATEGORIES:Ultramarathon
CONTACT:
CLASS:PUBLIC
PRIORITY:5
TRANSP:OPAQUE
END:VEVENT
END:VCALENDAR
