BEGIN:VCALENDAR
PRODID:-//http://statistik.d-u-v.org//PHP ultracalendar//EN
VERSION:2.0
METHOD:PUBLISH
BEGIN:VEVENT
DTSTAMP:20260419T220943
CREATED:20250202T104221
UID:1776636583.0.59799300-116003@statistik.d-u-v.org
SUMMARY:Whitefish Trail Legacy 50km Run
DESCRIPTION: Whitefish Trail Legacy 50km Run\n
  Jedd Sankar-Gorton\n
  info[at]whitefishlegacy.org
DTSTART:20251004T070000
DTEND:00000000T235900
LOCATION:Whitefish, MT\, USA
URL:https://runsignup.com/Race/MT/Whitefish/WhitefishTrailBlazer
CATEGORIES:Ultramarathon
CONTACT:Jedd Sankar-Gorton
CLASS:PUBLIC
PRIORITY:5
TRANSP:OPAQUE
END:VEVENT
END:VCALENDAR
