BEGIN:VCALENDAR
PRODID:-//http://statistik.d-u-v.org//PHP ultracalendar//EN
VERSION:2.0
METHOD:PUBLISH
BEGIN:VEVENT
DTSTAMP:20260420T035210
CREATED:20250202T090512
UID:1776657130.0.19043200-115985@statistik.d-u-v.org
SUMMARY:Running Up For Air - Staunton Rocks
DESCRIPTION: Running Up For Air - Staunton Rocks\n
  \n
  
DTSTART:20250214T060000
DTEND:00000000T235900
LOCATION:Pine, CO\, USA
URL:https://upforairseries.org/
CATEGORIES:Ultramarathon
CONTACT:
CLASS:PUBLIC
PRIORITY:5
TRANSP:OPAQUE
END:VEVENT
END:VCALENDAR
